BEGIN:VCALENDAR
VERSION:2.0
PRODID:-//healthpartnersclinic.org//NONSGML kigkonsult.se iCalcreator 2.30.
 10//
CALSCALE:GREGORIAN
METHOD:PUBLISH
UID:94a309b2-0fa9-46cd-b722-a0de717ba644
X-WR-CALDESC:
X-WR-RELCALID:7fc13039e9a8257844e6f0da027d4e56
X-WR-TIMEZONE:America/New_York
BEGIN:VTIMEZONE
TZID:America/New_York
BEGIN:STANDARD
TZNAME:EST
DTSTART:20221106T020000
TZOFFSETFROM:-0400
TZOFFSETTO:-0500
RDATE:20231105T020000
RDATE:20241103T020000
END:STANDARD
BEGIN:DAYLIGHT
TZNAME:EDT
DTSTART:20230312T020000
TZOFFSETFROM:-0500
TZOFFSETTO:-0400
RDATE:20240310T020000
END:DAYLIGHT
END:VTIMEZONE
BEGIN:VEVENT
UID:17a4879b-ee98-49d3-bd3e-0e49cae56940
DTSTAMP:20260422T172923Z
DESCRIPTION:
DTSTART;TZID=America/New_York:20230620T180000
DTEND;TZID=America/New_York:20230620T193000
LOCATION:1300 North County Road 25A\, Troy\, OH 45373 US
SUMMARY:Executive Committee Meeting
END:VEVENT
END:VCALENDAR
