BEGIN:VCALENDAR
VERSION:2.0
PRODID:-//healthpartnersclinic.org//NONSGML kigkonsult.se iCalcreator 2.30.
 10//
CALSCALE:GREGORIAN
METHOD:PUBLISH
UID:aa2d128b-103f-460b-a720-a5c4dfe123b5
X-WR-CALDESC:
X-WR-RELCALID:1d97c943ab9e5bec620559030c3af6d0
X-WR-TIMEZONE:America/New_York
BEGIN:VTIMEZONE
TZID:America/New_York
BEGIN:STANDARD
TZNAME:EST
DTSTART:20241103T020000
TZOFFSETFROM:-0400
TZOFFSETTO:-0500
RDATE:20251102T020000
END:STANDARD
BEGIN:DAYLIGHT
TZNAME:EDT
DTSTART:20250309T020000
TZOFFSETFROM:-0500
TZOFFSETTO:-0400
RDATE:20260308T020000
END:DAYLIGHT
END:VTIMEZONE
BEGIN:VEVENT
UID:921c8361-8d97-4047-80c0-7f637d7bc27d
DTSTAMP:20260424T082309Z
DESCRIPTION:
DTSTART;TZID=America/New_York:20250318T180000
DTEND;TZID=America/New_York:20250318T193000
LOCATION:1300 North County Road 25A\, Troy\, OH 45373 US
SUMMARY:Board Meeting
END:VEVENT
END:VCALENDAR
