BEGIN:VCALENDAR
VERSION:2.0
PRODID:-//healthpartnersclinic.org//NONSGML kigkonsult.se iCalcreator 2.30.
 10//
CALSCALE:GREGORIAN
METHOD:PUBLISH
UID:6b65cc6c-0b53-48cf-96f7-5c45d7b9c75d
X-WR-CALDESC:
X-WR-RELCALID:18cf6c1dac567fa038a8b121896c89dd
X-WR-TIMEZONE:America/New_York
BEGIN:VTIMEZONE
TZID:America/New_York
BEGIN:STANDARD
TZNAME:EST
DTSTART:20241103T020000
TZOFFSETFROM:-0400
TZOFFSETTO:-0500
RDATE:20251102T020000
RDATE:20261101T020000
END:STANDARD
BEGIN:DAYLIGHT
TZNAME:EDT
DTSTART:20250309T020000
TZOFFSETFROM:-0500
TZOFFSETTO:-0400
RDATE:20260308T020000
END:DAYLIGHT
END:VTIMEZONE
BEGIN:VEVENT
UID:3db8d685-d6be-42d3-8987-052afd5af67b
DTSTAMP:20260424T143719Z
DESCRIPTION:
DTSTART;TZID=America/New_York:20250715T180000
DTEND;TZID=America/New_York:20250715T193000
LOCATION:1300 North County Road 25A\, Troy\, OH 45373 US
SUMMARY:Board Meeting
END:VEVENT
END:VCALENDAR
