BEGIN:VCALENDAR
VERSION:2.0
PRODID:-//healthpartnersclinic.org//NONSGML kigkonsult.se iCalcreator 2.30.
 10//
CALSCALE:GREGORIAN
METHOD:PUBLISH
UID:57e8aff4-b38d-4054-b7a6-608361785ad5
X-WR-CALDESC:
X-WR-RELCALID:e1c0e572e14c592189c9e5a7c1c2b9c2
X-WR-TIMEZONE:America/New_York
BEGIN:VTIMEZONE
TZID:America/New_York
BEGIN:STANDARD
TZNAME:EST
DTSTART:20241103T020000
TZOFFSETFROM:-0400
TZOFFSETTO:-0500
RDATE:20251102T020000
RDATE:20261101T020000
END:STANDARD
BEGIN:DAYLIGHT
TZNAME:EDT
DTSTART:20250309T020000
TZOFFSETFROM:-0500
TZOFFSETTO:-0400
RDATE:20260308T020000
END:DAYLIGHT
END:VTIMEZONE
BEGIN:VEVENT
UID:82145668-7127-43e8-af84-e95afcf12b85
DTSTAMP:20260424T160336Z
DESCRIPTION:
DTSTART;TZID=America/New_York:20250819T160000
DTEND;TZID=America/New_York:20250819T170000
LOCATION:1300 North County Road 25A\, Troy\, OH 45373 US
SUMMARY:HPFC Executive Committee Meeting
END:VEVENT
END:VCALENDAR
