BEGIN:VCALENDAR
VERSION:2.0
PRODID:-//healthpartnersclinic.org//NONSGML kigkonsult.se iCalcreator 2.30.
 10//
CALSCALE:GREGORIAN
METHOD:PUBLISH
UID:11bf112d-7adc-4423-afe1-001a34df47b0
X-WR-CALDESC:
X-WR-RELCALID:82f7f118e7cd8dc18f3717f049d40aeb
X-WR-TIMEZONE:America/New_York
BEGIN:VTIMEZONE
TZID:America/New_York
BEGIN:STANDARD
TZNAME:EST
DTSTART:20241103T020000
TZOFFSETFROM:-0400
TZOFFSETTO:-0500
RDATE:20251102T020000
RDATE:20261101T020000
END:STANDARD
BEGIN:DAYLIGHT
TZNAME:EDT
DTSTART:20250309T020000
TZOFFSETFROM:-0500
TZOFFSETTO:-0400
RDATE:20260308T020000
RDATE:20270314T020000
END:DAYLIGHT
END:VTIMEZONE
BEGIN:VEVENT
UID:7a594c26-34c5-4b0c-8d1f-7a625214c884
DTSTAMP:20260424T190520Z
DESCRIPTION:
DTSTART;TZID=America/New_York:20251021T160000
DTEND;TZID=America/New_York:20251021T170000
LOCATION:1300 North County Road 25A\, Troy\, OH 45373 US
SUMMARY:HPFC Executive Committee Meeting
END:VEVENT
END:VCALENDAR
